BEGIN:VCALENDAR
VERSION:2.0
PRODID:icalendar-ruby
CALSCALE:GREGORIAN
METHOD:PUBLISH
BEGIN:VEVENT
DTSTAMP:20260419T144543Z
UID:5-398372@chiefcc.org
DTSTART:20260510T140000Z
DTEND:20260510T150000Z
CLASS:PUBLIC
CREATED:20260419T092422
DESCRIPTION:Sunday Worship
LAST-MODIFIED:20260419T092422
LOCATION:
SUMMARY:Sunday School
URL;VALUE=URI:https://www.chiefcc.org/events/sunday-school/2026-05-10
END:VEVENT
END:VCALENDAR
