BEGIN:VCALENDAR
VERSION:2.0
PRODID:icalendar-ruby
CALSCALE:GREGORIAN
METHOD:PUBLISH
BEGIN:VEVENT
DTSTAMP:20260420T044917Z
UID:5-399425@chiefcc.org
DTSTART:20260719T140000Z
DTEND:20260719T150000Z
CLASS:PUBLIC
CREATED:20260420T000751
DESCRIPTION:Sunday Worship
LAST-MODIFIED:20260420T000751
LOCATION:
SUMMARY:Sunday School
URL;VALUE=URI:https://www.chiefcc.org/events/sunday-school/2026-07-19
END:VEVENT
END:VCALENDAR
