BEGIN:VCALENDAR
VERSION:2.0
PRODID:icalendar-ruby
CALSCALE:GREGORIAN
METHOD:PUBLISH
BEGIN:VEVENT
DTSTAMP:20260422T082956Z
UID:5-402821@chiefcc.org
DTSTART:20260809T140000Z
DTEND:20260809T150000Z
CLASS:PUBLIC
CREATED:20260421T213134
DESCRIPTION:Sunday Worship
LAST-MODIFIED:20260421T213134
LOCATION:
SUMMARY:Sunday School
URL;VALUE=URI:https://www.chiefcc.org/events/sunday-school/2026-08-09
END:VEVENT
END:VCALENDAR
