BEGIN:VCALENDAR
VERSION:2.0
PRODID:icalendar-ruby
CALSCALE:GREGORIAN
METHOD:PUBLISH
BEGIN:VEVENT
DTSTAMP:20260422T193047Z
UID:5-403612@chiefcc.org
DTSTART:20261004T140000Z
DTEND:20261004T150000Z
CLASS:PUBLIC
CREATED:20260422T142923
DESCRIPTION:Sunday Worship
LAST-MODIFIED:20260422T142923
LOCATION:
SUMMARY:Sunday School
URL;VALUE=URI:https://www.chiefcc.org/events/sunday-school/2026-10-04
END:VEVENT
END:VCALENDAR
