BEGIN:VCALENDAR
VERSION:2.0
PRODID:icalendar-ruby
CALSCALE:GREGORIAN
METHOD:PUBLISH
BEGIN:VEVENT
DTSTAMP:20260422T230317Z
UID:5-403876@chiefcc.org
DTSTART:20261025T140000Z
DTEND:20261025T150000Z
CLASS:PUBLIC
CREATED:20260422T172446
DESCRIPTION:Sunday Worship
LAST-MODIFIED:20260422T172446
LOCATION:
SUMMARY:Sunday School
URL;VALUE=URI:https://www.chiefcc.org/events/sunday-school/2026-10-25
END:VEVENT
END:VCALENDAR
