BEGIN:VCALENDAR
VERSION:2.0
PRODID:icalendar-ruby
CALSCALE:GREGORIAN
METHOD:PUBLISH
BEGIN:VEVENT
DTSTAMP:20260423T000153Z
UID:5-403877@chiefcc.org
DTSTART:20261101T150000Z
DTEND:20261101T160000Z
CLASS:PUBLIC
CREATED:20260422T172446
DESCRIPTION:Sunday Worship
LAST-MODIFIED:20260422T172446
LOCATION:
SUMMARY:Sunday School
URL;VALUE=URI:https://www.chiefcc.org/events/sunday-school/2026-11-01
END:VEVENT
END:VCALENDAR
